BEGIN:VCALENDAR
VERSION:2.0
CALSCALE:GREGORIAN
PRODID:-//MyApp//Calendar 1.0//EN
BEGIN:VEVENT
METHOD:PUBLISH
UID:11689@regionalniportaly.cz
DTSTAMP:20260423T082907Z
DTSTART;VALUE=DATE:20170805
DTEND;VALUE=DATE:20170806
SUMMARY:Blučinská Rybníkiáda
DESCRIPTION:Soutěž nejrozmanitějších plavidel na rybníku v Blučině. 
LOCATION:Blučina
END:VEVENT
END:VCALENDAR