BEGIN:VCALENDAR
VERSION:2.0
CALSCALE:GREGORIAN
PRODID:-//MyApp//Calendar 1.0//EN
BEGIN:VEVENT
METHOD:PUBLISH
UID:17678@regionalniportaly.cz
DTSTAMP:20260423T100350Z
DTSTART;VALUE=DATE:20181117
DTEND;VALUE=DATE:20181118
SUMMARY:Svatomartinské slavnosti
DESCRIPTION:Od 13 hod.\, prostory před restaurací NA KINĚ\n\nPozvánka na 6. SVATOMARTINSKÉ SLAVNOSTI.\n\nSvatomartinská sousedská\n– program pro děti a dospělé\n\nTradiční soutěž „O nejlepší Rajhradský gulášek“ 3 l guláše přineste na místo do 12 hod.\, SMS 731 409 068\nhlavní výhra: svatomartinská husa
LOCATION:Rajhrad
END:VEVENT
END:VCALENDAR