BEGIN:VCALENDAR
VERSION:2.0
CALSCALE:GREGORIAN
PRODID:-//MyApp//Calendar 1.0//EN
BEGIN:VEVENT
METHOD:PUBLISH
UID:17919@regionalniportaly.cz
DTSTAMP:20260423T100426Z
DTSTART;VALUE=DATE:20181201
DTEND;VALUE=DATE:20181202
SUMMARY:Mikulášský maškarní rej s Hrbatým Hroznem
DESCRIPTION:Od 14:30 hod.\, sál Sokolovny \n\nMikulášské rejdění\, tancování a zábava pro všechny hodné i zlobivé děti v sále Sokolovny. \n\nO hudbu se postará náš DJ Bob a balíčky přinese Mikuláš s kamarády anděly a zlobivými čerty :-)\n\nMasky nejsou podmínkou\, ale potěší!!!\nUrčitě se přijďte podívat. \nVstupné dobrovolné
LOCATION:Šlapanice
END:VEVENT
END:VCALENDAR