BEGIN:VCALENDAR
VERSION:2.0
CALSCALE:GREGORIAN
PRODID:-//MyApp//Calendar 1.0//EN
BEGIN:VEVENT
METHOD:PUBLISH
UID:18527@regionalniportaly.cz
DTSTAMP:20260423T005145Z
DTSTART;VALUE=DATE:20190302
DTEND;VALUE=DATE:20190303
SUMMARY:Slavkovský Maškarák 2019
DESCRIPTION:Od 19:00 hod.\, SC Bonaparte\n\nČtvrtý ročník Slavkovského Maškaráku je zde a opět se můžete těšit na skvělou a přátelskou atmosféru.\n\nVstupenky můžete zakoupit v Hostinci U Černého Lva vždy jednou za 2 týdny (aktuální předprodej bude zveřejněn vždy zde na události v záložce „DISKUZE“) nebo také on-line. \n\nOnline vstupenky můžete objednat na https://hadica.cz/listky a volná místa najdete na https://hadica.cz/planeksalu.
LOCATION:Slavkov u Brna
END:VEVENT
END:VCALENDAR