BEGIN:VCALENDAR
VERSION:2.0
CALSCALE:GREGORIAN
PRODID:-//MyApp//Calendar 1.0//EN
BEGIN:VEVENT
METHOD:PUBLISH
UID:19360@regionalniportaly.cz
DTSTAMP:20260423T071133Z
DTSTART;VALUE=DATE:20190302
DTEND;VALUE=DATE:20190303
SUMMARY:Vepřové hody
DESCRIPTION:Město Slavkov u Brna ve spolupráci s řeznickým mistrem Reném Nádeníčkem a restaurací U Fidela zve milovníky tradičních zabijačkových pochoutek na již dvanácté vepřové hody\, které se uskuteční se v sobotu 2. března od 8 do 11 hodin před radnicí na Palackého náměstí. \n\nK ochutnávce a k prodeji budou zabijačkové produkty (černá polévka a vařené maso) a další uzenářské výrobky z vlastní produkce řeznictví Nádeníček. V provozu bude také udírna. Po celou dobu akce bude také zajištěno občerstvení v režii restaurace U Fidela z Brna.
LOCATION:Slavkov u Brna
END:VEVENT
END:VCALENDAR