BEGIN:VCALENDAR
VERSION:2.0
CALSCALE:GREGORIAN
PRODID:-//MyApp//Calendar 1.0//EN
BEGIN:VEVENT
METHOD:PUBLISH
UID:22251@regionalniportaly.cz
DTSTAMP:20260423T020916Z
DTSTART;VALUE=DATE:20191231
DTEND;VALUE=DATE:20200101
SUMMARY:Strašidelný Silvestr U Zlaté Rybky 2019 v Tučapech
DESCRIPTION:Přijďte konec roku oslavit do Wellness hotelu U Zlaté Rybky v Tučapech.\nKde: Wellness hotel „U ZLATÉ RYBKY“ Tučapy 102 u RousínovaKdy: 31.12.2019 od 18.00 hod.\n \nPROGRAM\n18.00 Začátek Silvestrovského večera18-20 hod. Večeře v ceně vstupenky20.00 Slavnostní zahájení21.00 Úžasná soutěž o ceny22.00 Ještě úžasnější soutěž o ceny23.00 Vyhlášení nejstylovějšího kostýmu – nejlepšího odměníme00.00 Novoroční přípitek na terase hotelu00.15 Ohňostroj01.30 Vyhlášení tomboly o ceny v hodnotě přes 22 000 Kč???? Závěr večera\nNavíc k programu:\nod 20.00 – 3:00 hraje Dj písničky všech žánrů i na Vaše přáníod 20.00 do 23.00 míchané osvěžující alko i nealko nápojeod 22.00 do 23.00 domácí punč\n \nVSTUPENKY\nPředprodej do 15.12. (na těchto stránkách online) 649 Kč\, na místě 750 Kč.\nTak neváhejte a kupte si svůj lístek už dnes.\nV ceně vstupenky: slavnostní večeře\, skvělá hudba\, super zábava\, soutěže o ceny\, půlnoční přípitek a působivý ohňostroj. A letošní tombola v hodnotě přes 22 000 Kč.\n \n \nMožnost ubytování na silvestrovský pobyt. \nRezervace ubytování tel. 739 610 847 nebo e-mail: hotel@uzlaterybky.cz.
LOCATION:Tučapy
END:VEVENT
END:VCALENDAR