BEGIN:VCALENDAR
VERSION:2.0
CALSCALE:GREGORIAN
PRODID:-//MyApp//Calendar 1.0//EN
BEGIN:VEVENT
METHOD:PUBLISH
UID:34069@regionalniportaly.cz
DTSTAMP:20260423T182553Z
DTSTART;VALUE=DATE:20230726
DTEND;VALUE=DATE:20231015
SUMMARY:Cesta z hlíny do vitríny - Výstava detektorových nálezů
DESCRIPTION:CESTA Z HLÍNY DO VITRÍNY\nHledání s detektorem kovů je stále rozšířenější volnočasovou zábavou\, představuje však nebezpečí pro archeologické dědictví regionu. Cílem výstavy je ukázat možnosti spolupráce odborných pracovníků muzeí a amatérských badatelů s detektory. Představení výsledků takové spolupráce může do budoucna případně přesvědčit váhající detektoráře k navázání kontaktu s archeology. Poučením o správném postupu při objevení hodnotného artefaktu se podaří zabránit ztrátě informací o nálezových okolnostech nebo zničení archeologického nálezu\, který je pro návštěvníky muzeí i odbornou veřejnost zdrojem poznatků o životě našich předků.\nVe vitrínách budou vystaveny předměty odevzdané detektoráři za několik posledních let. Půjde o kolekci artefaktů z pravěku\, středověku i raného novověku\, zbraně\, šperky i předměty denní potřeby. Návštěvníci se navíc seznámí s teoretickými otázkami detektorového hledání\, příběhy zajímavých nálezů a informace o nalezených předmětech.\nVýstava bude doplněna počítačovou aplikací se zábavným kvízem\, za pozornost stojí také poučné krátké filmy.
LOCATION:Bučovice
END:VEVENT
END:VCALENDAR