BEGIN:VCALENDAR
VERSION:2.0
CALSCALE:GREGORIAN
PRODID:-//MyApp//Calendar 1.0//EN
BEGIN:VEVENT
METHOD:PUBLISH
UID:34079@regionalniportaly.cz
DTSTAMP:20260423T184429Z
DTSTART;VALUE=DATE:20230713
DTEND;VALUE=DATE:20230831
SUMMARY:Cyklostezky 2023
DESCRIPTION:
LOCATION:Bučovice
END:VEVENT
END:VCALENDAR