BEGIN:VCALENDAR
VERSION:2.0
CALSCALE:GREGORIAN
PRODID:-//MyApp//Calendar 1.0//EN
BEGIN:VEVENT
METHOD:PUBLISH
UID:36535@regionalniportaly.cz
DTSTAMP:20260423T172809Z
DTSTART;VALUE=DATE:20231120
DTEND;VALUE=DATE:20231230
SUMMARY:Zimní radovánky s Josefem Ladou
DESCRIPTION:Stylizovaný obraz českého venkova plný vlídného humoru a idylické atmosféry\, to jsou obrázky Josefa Lady (1887-1957)\, ilustrátora\, karikaturisty a autora moderních pohádek pro děti. Josef Lada maloval svůj domov a vzpomínky na dětství. Obrazy rodných Hrusic\, dětských her nebo lidových výročních zvyků a obyčejů tak\, jak si je pamatoval\, zůstávají symbolem domova a šťastného dětství pro několik generací českých čtenářů. \nNa výstavě ZIMNÍ RADOVÁNKY S JOSEFEM LADOU najdete oblíbené obrázky zapůjčené od společnosti JosefLada.cz\, kterou vedou jeho dědicové a také prezentaci sbírkových předmětů z Muzea Vyškovska a Muzea ve Šlapanicích\, které nám připomenou zimní sporty v minulosti. Potěší vás tedy nejenom obrázky\, které provázely dětství většiny z nás\, ale také se můžete podívat třeba na to\, jaké sáňky nebo brusle měli doma vaši prarodiče a dozvědět se řadu zajímavostí o historii zimních sportů u nás.
LOCATION:Bučovice
END:VEVENT
END:VCALENDAR