BEGIN:VCALENDAR
VERSION:2.0
CALSCALE:GREGORIAN
PRODID:-//MyApp//Calendar 1.0//EN
BEGIN:VEVENT
METHOD:PUBLISH
UID:40708@regionalniportaly.cz
DTSTAMP:20260423T150155Z
DTSTART;VALUE=DATE:20240327
DTEND;VALUE=DATE:20240328
SUMMARY:Dílničky pro děti
DESCRIPTION:
LOCATION:Bučovice
END:VEVENT
END:VCALENDAR