BEGIN:VCALENDAR
VERSION:2.0
CALSCALE:GREGORIAN
PRODID:-//MyApp//Calendar 1.0//EN
BEGIN:VEVENT
METHOD:PUBLISH
UID:40747@regionalniportaly.cz
DTSTAMP:20260423T150245Z
DTSTART;VALUE=DATE:20240312
DTEND;VALUE=DATE:20240421
SUMMARY:Obrazy a dřevořezby výtvarníků z Vyškova
DESCRIPTION:Obrazy a dřevořezby vyškovských výtvarníků – Milan Konvalina\, Otakar Jakubčík\, Jaroslav Nechvíla\n \nTvorba některých vyškovských výtvarníků se prolíná námětově i povahou výtvarného sdělení. Tři výtvarníci – Milan Konvalina\, Otakar Jakubčík a Jaroslav Nechvíla jsou již delší čas důchodci\, kamarádi a také obdivuhodní řezbáři.
LOCATION:Vyškov
END:VEVENT
END:VCALENDAR