BEGIN:VCALENDAR
VERSION:2.0
CALSCALE:GREGORIAN
PRODID:-//MyApp//Calendar 1.0//EN
BEGIN:VEVENT
METHOD:PUBLISH
UID:43896@regionalniportaly.cz
DTSTAMP:20260423T132524Z
DTSTART;VALUE=DATE:20240711
DTEND;VALUE=DATE:20240908
SUMMARY:Nejkrásnější pohádky
DESCRIPTION:Interaktivní výstava Nejkrásnější pohádky zve děti do světa fantazie s ilustrovanými pohádkovými postavami v životní velikosti. Nejenom Sněhurka a 7 trpaslíků\, Smolíček pacholíček žijící u jelena se zlatými parohy\, Červená Karkulka v nebezpečném lese\, Jeníček s Mařenkou\, kteří se snaží obelstít zlou bábu v perníkové chaloupce\, nebo Dlouhý\, Široký a Bystrozraký\, kteří pomáhají vysvobodit princeznu unesenou zlým černokněžníkem. Na děti čekají dětské stolní hry\, stanoviště plné úkolů a zábavy\, fotokoutek a především krásný pohádkový svět v podání malířky a ilustrátorky dětských knih Veroniky Balcarové. Možná znáte její roztomilé postavy a obrázky z knih Jiřího Žáčka\, z dětských omalovánek nebo z oblíbeného časopisu Sluníčko\, se kterým spolupracuje.
LOCATION:Bučovice
END:VEVENT
END:VCALENDAR