BEGIN:VCALENDAR
VERSION:2.0
CALSCALE:GREGORIAN
PRODID:-//MyApp//Calendar 1.0//EN
BEGIN:VEVENT
METHOD:PUBLISH
UID:45930@regionalniportaly.cz
DTSTAMP:20260423T120836Z
DTSTART;VALUE=DATE:20240913
DTEND;VALUE=DATE:20240914
SUMMARY:Komentované prohlídky Druckerovy vily
DESCRIPTION:
LOCATION:Bučovice
END:VEVENT
END:VCALENDAR