BEGIN:VCALENDAR
VERSION:2.0
CALSCALE:GREGORIAN
PRODID:-//MyApp//Calendar 1.0//EN
BEGIN:VEVENT
METHOD:PUBLISH
UID:46413@regionalniportaly.cz
DTSTAMP:20260423T120828Z
DTSTART;VALUE=DATE:20240920
DTEND;VALUE=DATE:20241117
SUMMARY:Krása dřeva
DESCRIPTION:
LOCATION:Bučovice
END:VEVENT
END:VCALENDAR