BEGIN:VCALENDAR
VERSION:2.0
CALSCALE:GREGORIAN
PRODID:-//MyApp//Calendar 1.0//EN
BEGIN:VEVENT
METHOD:PUBLISH
UID:47202@regionalniportaly.cz
DTSTAMP:20260423T114955Z
DTSTART;VALUE=DATE:20241019
DTEND;VALUE=DATE:20241020
SUMMARY:Expedice Orlovice
DESCRIPTION:sobota 19. října 2024 ve 12:35\nsraz účastníků na autobusové zastávce Orlovice\n \nKomentovaná archeologická procházka s archeoložkou Muzea Vyškovska Mgr. Klárou Rybářovou a Mgr. Lubomírem Vránou z Muzea Bučovice.\nStejně jako v předchozích letech nabízí Muzeum Vyškovska milovníkům přírody a historie vycházku za poznáním našeho regionu. Tentokrát se vydáme do východní části vyškovského regionu\, kde navštívíme hradisko Orlov s pozůstatky prvního opevněného hradu rytířského řádu Johanitů na Moravě a rovněž pravěkého opevněného sídliště. Vycházka se uskuteční při příležitosti Mezinárodního dne archeologie\, který každoročně připadá na třetí sobotu v říjnu.\n \nČasová náročnost cca 2 hodiny\, délka trasy 2 km.\n 
LOCATION:Orlovice
END:VEVENT
END:VCALENDAR