BEGIN:VCALENDAR
VERSION:2.0
CALSCALE:GREGORIAN
PRODID:-//MyApp//Calendar 1.0//EN
BEGIN:VEVENT
METHOD:PUBLISH
UID:50319@regionalniportaly.cz
DTSTAMP:20260423T111736Z
DTSTART;VALUE=DATE:20250212
DTEND;VALUE=DATE:20250213
SUMMARY:Pozvánka k setkání pracovních skupin
DESCRIPTION:
LOCATION:Bučovice
END:VEVENT
END:VCALENDAR