BEGIN:VCALENDAR
VERSION:2.0
CALSCALE:GREGORIAN
PRODID:-//MyApp//Calendar 1.0//EN
BEGIN:VEVENT
METHOD:PUBLISH
UID:54021@regionalniportaly.cz
DTSTAMP:20260423T105342Z
DTSTART;VALUE=DATE:20241210
DTEND;VALUE=DATE:20250601
SUMMARY:Obrazy a kresby Josefa Kachlíka
DESCRIPTION:Malíř a kreslíř Josef Kachlík (1897–1978)\, rodák z Dražovic\, právem náleží mezi nejvýznamnější kulturní osobnosti města Vyškova. Jeho jméno je v povědomí veřejnosti spjato především s pedagogickou a kreslířskou činností. V mnohých kresbách a obrazech soustředil pozornost k Vyškovu\, jeho památkám a uličkám. Některé z těchto vyobrazení nám přibližují dnes již zaniklá zákoutí a nabývají tak historického významu.
LOCATION:Vyškov
END:VEVENT
END:VCALENDAR