BEGIN:VCALENDAR
VERSION:2.0
CALSCALE:GREGORIAN
PRODID:-//MyApp//Calendar 1.0//EN
BEGIN:VEVENT
METHOD:PUBLISH
UID:63118@regionalniportaly.cz
DTSTAMP:20260423T125725Z
DTSTART;VALUE=DATE:20260528
DTEND;VALUE=DATE:20260531
SUMMARY:Dny Slavkova 2026
DESCRIPTION:Dny Slavkova: centrum ožije díky dětem\, hudbě\, špičkové gastronomii i tradicím\n \nNa konci května ožije Slavkov u Brna tradičními Dny Slavkova.\nOd 28. do 31. května 2026 čeká návštěvníky pestrý program plný hudby\, divadla\, gastronomie i setkávání napříč generacemi.\n \nSlavnosti zahájí ve čtvrtek večer koncert Pavel Haas Quartet v rámci festivalu Concentus Moraviae v historickém sále zámku.\n \nPátek nabídne program především pro rodiny s dětmi – na zámeckém nádvoří se uskuteční dětské odpoledne plné her a zábavy.\nVečer pak bude patřit divadlu – Divadelní spolek Slavkov u Brna uvede premiéru představení „Případ Grendwal“\, které doplní beseda s autorem hudby a také křest knihy Stanislava Olbrichta.\n \nHlavní program vyvrcholí v sobotu 30. května\, kdy se centrum města promění v živé místo plné hudby\, tradic a setkávání. Palackého náměstí zaplní jarmark a celodenní kulturní program\, do kterého se zapojí místní spolky\, školy i umělci. Představí se mimo jiné žáci ZUŠ Františka France Slavkov u Brna\, folklorní i taneční soubory a další místní uskupení.\nSoučástí sobotního programu bude také slavnostní vyhlášení Sportovce roku a předání ocenění za přínos v oblasti kultury\, které pravidelně patří k důležitým momentům slavností.\nVečerní program zahájí folková skupina HB Stop a vyvrcholí koncertem Michala Hrůzy s kapelou Hrůzy\, na který naváže závěrečné vystoupení kapely Vinohard\, jež se postará o finální festivalovou atmosféru v centru města.\n„Dny Slavkova jsou pro nás každoročně jednou z nejvýznamnějších událostí. Těší mě\, že se do programu zapojují místní spolky\, školy i profesionální umělci a že se daří propojit tradici s moderním programem. Věřím\, že si každý návštěvník najde to své a že si společně užijeme příjemnou atmosféru v centru města\,“ říká starosta Slavkova u Brna.\n \nSouběžně s Dny Slavkova bude v zámeckém parku probíhat také oblíbený Elimon FRESH festival. Do Slavkova přiveze špičkovou gastronomii i známé osobnosti. Návštěvníci se mohou těšit například na Zdeňka Pohlreicha\, Adama Runduse nebo Marka Horu\, kteří nabídnou cooking show i ochutnávky svých michelinských menu.\n \nV provozu již bude také nová napoleonské expozice na zámku Slavkov – Austerlitz\, která nabídne moderní a interaktivní pohled na bitvu u Slavkova i její souvislosti.\n \nV souvislosti s konáním akce bude Palackého náměstí uzavřeno pro dopravu a parkování od pátečních večerních hodin do nedělního poledne.\nVětšina programu Dnů Slavkova je pro návštěvníky zdarma\, není-li uvedeno jinak. \nNic Vám neunikne\, když budete sledovat FACEBOOKOVOU UDÁLOST\nElimon Fresh festival - vstupenky a více info najdete ZDE\nTěšíme se na setkání. 
LOCATION:Slavkov u Brna
END:VEVENT
END:VCALENDAR