BEGIN:VCALENDAR
VERSION:2.0
CALSCALE:GREGORIAN
PRODID:-//MyApp//Calendar 1.0//EN
BEGIN:VEVENT
METHOD:PUBLISH
UID:63226@regionalniportaly.cz
DTSTAMP:20260423T085413Z
DTSTART;VALUE=DATE:20260215
DTEND;VALUE=DATE:20260216
SUMMARY:Shromáždění na podporu demokratických hodnot
DESCRIPTION:Přijďte podpořit slušnost\, respekt\, nezávislost institucí. Přijďte\, lidé dobré vůle.\nKdy? V neděli 15. února od 16:00 hod.Kde? Náměstí Svobody v Bučovicích.\nSledujte také facebookovou událost: https://www.facebook.com/events/1236855274472888/.
LOCATION:Bučovice
END:VEVENT
END:VCALENDAR