BEGIN:VCALENDAR
VERSION:2.0
CALSCALE:GREGORIAN
PRODID:-//MyApp//Calendar 1.0//EN
BEGIN:VEVENT
METHOD:PUBLISH
UID:63763@regionalniportaly.cz
DTSTAMP:20260423T135304Z
DTSTART;VALUE=DATE:20260527
DTEND;VALUE=DATE:20260528
SUMMARY:Networking Coffee & Tea s Lucií Bulovou
DESCRIPTION:Lucie Bulová&nbsp\;- objevte tvorbu grafiky v Canvě bez stresu a bez potřeby "být grafik". Ukážeme si základní nástroje\, díky kterým vytvoříte hezký design během pár minut i bez předchozích zkušeností. Můžete si vzít notebook s sebou.Kde se potkáme? kavárna Slunečnice\, která se nachází v areálu Oblastní charity v Rajhradě. Adresa je známá: Jiráskova 47\, Rajhrad.Děti vítány: Díky dobrému zázemí jsou na tomto networkingu vítány i děti (věk 0–3 let\, nebo dle domluvy).Na koho se můžete těšit? Lucie BulováPři dobré kávě a bohatém občerstvení: Networking začíná v 9:00\, scházet se budeme už od 8:45. Přijďte na příjemné setkání s inspirativními lidmi\, kteří chtějí svůj život řídit sami.Program:08:45 – 09:00 Příchod a naladění se09:00 – 10:00 Představení všech účastníků (kolečko)10:00 – 11:00 Hostka Lucie Bulová11:00 – 11:30 Volný networking\, který se dle chuti může protáhnoutAť už patříte mezi zkušené networkery\, nebo to bude vaše premiéra\, přijďte navázat nové vztahy\, sdílet reference a doporučení.Vstupenky zakoupíte zde přes smsticketTěší se na vás Kačka Eichi Bilíková a Lucie Bulová
LOCATION:Rajhrad
END:VEVENT
END:VCALENDAR