BEGIN:VCALENDAR
VERSION:2.0
CALSCALE:GREGORIAN
PRODID:-//MyApp//Calendar 1.0//EN
BEGIN:VEVENT
METHOD:PUBLISH
UID:65452@regionalniportaly.cz
DTSTAMP:20260420T094619Z
DTSTART;VALUE=DATE:20260501
DTEND;VALUE=DATE:20260502
SUMMARY:Prvomájové oslavy se setkáním veteránů
DESCRIPTION:Stovky nablýskaných historických automobilů\, motorek a jiných strojů\, bohatý kulturní program a dobré jídlo a pití. To jsou Prvomájové oslavy se setkáním veteránů na náměstí Svobody a v okolí zámku v Bučovicích.\nTěšíme se v pátek 1. května 2026 od 9:00 do 13:00 hodin!\nVstup zdarma.
LOCATION:Bučovice
END:VEVENT
END:VCALENDAR