BEGIN:VCALENDAR
VERSION:2.0
CALSCALE:GREGORIAN
PRODID:-//MyApp//Calendar 1.0//EN
BEGIN:VEVENT
METHOD:PUBLISH
UID:65839@regionalniportaly.cz
DTSTAMP:20260425T105731Z
DTSTART;VALUE=DATE:20260427
DTEND;VALUE=DATE:20260428
SUMMARY:Jarní bylinky
DESCRIPTION:
LOCATION:Bučovice
END:VEVENT
END:VCALENDAR