BEGIN:VCALENDAR
VERSION:2.0
CALSCALE:GREGORIAN
PRODID:-//MyApp//Calendar 1.0//EN
BEGIN:VEVENT
METHOD:PUBLISH
UID:65841@regionalniportaly.cz
DTSTAMP:20260425T105712Z
DTSTART;VALUE=DATE:20260701
DTEND;VALUE=DATE:20260828
SUMMARY:Letní příměstské tábory
DESCRIPTION:
LOCATION:Bučovice
END:VEVENT
END:VCALENDAR