BEGIN:VCALENDAR
VERSION:2.0
CALSCALE:GREGORIAN
PRODID:-//MyApp//Calendar 1.0//EN
BEGIN:VEVENT
METHOD:PUBLISH
UID:65922@regionalniportaly.cz
DTSTAMP:20260425T105449Z
DTSTART;VALUE=DATE:20260523
DTEND;VALUE=DATE:20260524
SUMMARY:DJ Boris v Hoodbaru
DESCRIPTION:Další párty s DJ Borisem v Hoodu si dáme v sobotu 23. května&nbsp\;od 20:00!Entry 150 CZK předem na smsticket\, na místě 200 CZK hotově/kartou.&nbsp\;
LOCATION:Bučovice
END:VEVENT
END:VCALENDAR