BEGIN:VCALENDAR
VERSION:2.0
CALSCALE:GREGORIAN
PRODID:-//MyApp//Calendar 1.0//EN
BEGIN:VEVENT
METHOD:PUBLISH
UID:65926@regionalniportaly.cz
DTSTAMP:20260425T105850Z
DTSTART;VALUE=DATE:20260501
DTEND;VALUE=DATE:20260502
SUMMARY:Prvomájová casnovačka v Hoodbaru | EDM Night
DESCRIPTION:Prvomájová casnovačka v duchu electronic dance music s DJs Jenceq\, Radaxx\, Nešpi a Saffron.&nbsp\;Vstupné předem 150 Kč\, na místě 200 Kč.
LOCATION:Bučovice
END:VEVENT
END:VCALENDAR